BEGIN:VCALENDAR
VERSION:2.0
PRODID:-//CCPCP - ECPv6.15.20//NONSGML v1.0//EN
CALSCALE:GREGORIAN
METHOD:PUBLISH
X-WR-CALNAME:CCPCP
X-ORIGINAL-URL:https://www.ccpcp.bzh
X-WR-CALDESC:Évènements pour CCPCP
REFRESH-INTERVAL;VALUE=DURATION:PT1H
X-Robots-Tag:noindex
X-PUBLISHED-TTL:PT1H
BEGIN:VTIMEZONE
TZID:Europe/Paris
BEGIN:DAYLIGHT
TZOFFSETFROM:+0100
TZOFFSETTO:+0200
TZNAME:CEST
DTSTART:20240331T010000
END:DAYLIGHT
BEGIN:STANDARD
TZOFFSETFROM:+0200
TZOFFSETTO:+0100
TZNAME:CET
DTSTART:20241027T010000
END:STANDARD
BEGIN:DAYLIGHT
TZOFFSETFROM:+0100
TZOFFSETTO:+0200
TZNAME:CEST
DTSTART:20250330T010000
END:DAYLIGHT
BEGIN:STANDARD
TZOFFSETFROM:+0200
TZOFFSETTO:+0100
TZNAME:CET
DTSTART:20251026T010000
END:STANDARD
BEGIN:DAYLIGHT
TZOFFSETFROM:+0100
TZOFFSETTO:+0200
TZNAME:CEST
DTSTART:20260329T010000
END:DAYLIGHT
BEGIN:STANDARD
TZOFFSETFROM:+0200
TZOFFSETTO:+0100
TZNAME:CET
DTSTART:20261025T010000
END:STANDARD
END:VTIMEZONE
BEGIN:VEVENT
DTSTART;TZID=Europe/Paris:20250116T183000
DTEND;TZID=Europe/Paris:20250116T210000
DTSTAMP:20260425T195518
CREATED:20250106T161506Z
LAST-MODIFIED:20250106T161756Z
UID:12515-1737052200-1737061200@www.ccpcp.bzh
SUMMARY:Vœux 2025 acteurs économiques et sociaux
DESCRIPTION:La Communauté de Communes de Pleyben-Châteaulin-Porzay invite les entreprises locales et les acteurs socioéconomiques du territoire à participer à la cérémonie des v͟œ͟u͟x͟ a͟u͟x͟ a͟c͟t͟e͟u͟r͟s͟ é͟c͟o͟n͟o͟m͟i͟q͟u͟e͟s͟ e͟t͟ s͟o͟c͟i͟a͟u͟x͟ le jeudi 16 janvier 2025 à 18h30 à la salle Claude Bellin à Plomodiern.\n\n\n\nDans l’attente du plaisir de vous y retrouver.\n\nSur inscription ! Une réponse est souhaitée avant le lundi 13 janvier 2025 via ce formulaire : https://framaforms.org/voeux-2025-acteurs-economiques-et-sociaux-cc-pleyben-chateaulin-porzay-1734097713
URL:https://www.ccpcp.bzh/agenda/voeux-2025-acteurs-economiques-et-sociaux/
LOCATION:Salle Claude Bellin\, Place Saint-Yves\, Plomodiern\, 29550
ATTACH;FMTTYPE=image/png:https://www.ccpcp.bzh/wp-content/uploads/2025/01/Reseaux-sociaux_1.png
END:VEVENT
END:VCALENDAR